BEGIN:VCALENDAR
VERSION:2.0
PRODID:-//Aztlan Libre Press - ECPv6.15.20//NONSGML v1.0//EN
CALSCALE:GREGORIAN
METHOD:PUBLISH
X-WR-CALNAME:Aztlan Libre Press
X-ORIGINAL-URL:https://aztlanlibrepress.com
X-WR-CALDESC:Events for Aztlan Libre Press
REFRESH-INTERVAL;VALUE=DURATION:PT1H
X-Robots-Tag:noindex
X-PUBLISHED-TTL:PT1H
BEGIN:VTIMEZONE
TZID:UTC
BEGIN:STANDARD
TZOFFSETFROM:+0000
TZOFFSETTO:+0000
TZNAME:UTC
DTSTART:20230101T000000
END:STANDARD
END:VTIMEZONE
BEGIN:VEVENT
DTSTART;VALUE=DATE:20241129
DTEND;VALUE=DATE:20241202
DTSTAMP:20260420T202955
CREATED:20241009T231255Z
LAST-MODIFIED:20241009T231255Z
UID:3371-1732838400-1733097599@aztlanlibrepress.com
SUMMARY:Esperanza Peace & Justice Center’s Mercado de Paz
DESCRIPTION:Fri-Sat\, Nov 29-30 and Sun\, Dec 1\, 10am-6pm\, Esperanza Peace & Justice Center’s Mercado de Paz. Aztlan Libre Press will have a table all three days. Free.
URL:https://aztlanlibrepress.com/event/esperanza-peace-justice-centers-mercado-de-paz/
END:VEVENT
END:VCALENDAR